Workbook

Sheet 清单
A1: 4.1 工程量清单表
A2: 工程量清单
A3: 项目名称：2021年四好农村路专项养护--农村公路大中修工程（银湖街道Y639邵虎线） 第 1 页共 5 页
A4: 清单 第 100 章 总则
A5: 细目号 | B5: 细目名称 | C5: 计量单位 | D5: 工程数量 | E5: 单价（元） | F5: 合价（元）
A6: 101 | B6: 通则
A7: 101-1 | B7: 保险费
A8: -a | B8: 按合同条款规定，提供建筑工程一切险 | C8: 总额 | D8: 1 | E8: =(C61+C103+C132+C182)*0.003 -> 8143.3474 | F8: =E8 -> 8143.3474
A9: -b | B9: 按合同条款规定，提供第三方责任险 | C9: 总额 | D9: 1 | E9: =1000000*0.005 -> 5000 | F9: =E9 -> 5000
A10: 102 | B10: 工程管理
A11: 102-1 | B11: 竣工文件 | C11: 总额 | D11: 1 | E11: 5000 | F11: =E11*D11 -> 5000
A12: 102-2 | B12: 施工环保费 | C12: 总额 | D12: 1 | E12: 3000 | F12: =E12*D12 -> 3000
A13: 102-3 | B13: 交通安全管理费 | C13: 总额 | D13: 1 | E13: 3000 | F13: =E13*D13 -> 3000
A14: 102-4 | B14: 安全生产费(不少于建安费的1.5%) | C14: 总额 | D14: 1 | E14: =(C61+C103+C132+C182)*0.015 -> 40716.737 | F14: =E14*D14 -> 40716.737
A15: 103 | B15: 临时工程
A16: 103-1 | B16: 临时道路修建、养护、拆除 | C16: 总额 | D16: 1 | E16: 2000 | F16: =E16*D16 -> 2000
A17: 103-2 | B17: 临时工程用地 | C17: 总额 | D17: 1 | E17: 2000 | F17: =E17*D17 -> 2000
A18: 103-3 | B18: 临时供电设施架设、拆除、维修 | C18: 总额 | D18: 1 | E18: 2000 | F18: =E18*D18 -> 2000
A19: 103-5 | B19: 供水及排污设施 | C19: 总额 | D19: 1 | E19: 2000 | F19: =E19*D19 -> 2000
A20: 104 | B20: 承包人驻地建设
A21: 104-1 | B21: 承包人驻地建设 | C21: 总额 | D21: 1 | E21: 10000 | F21: =E21*D21 -> 10000
A22: 106 | B22: 临时交通安全设施（按周期使用考虑）
A23: 106-1 | B23: 版面D=60cm整体式标志 | C23: 套 | D23: 4 | E23: 49 | F23: =E23*D23 -> 196
A24: 106-2 | B24: 版面△=70cm、□=60×24cm | C24: 套 | D24: 4 | E24: 59 | F24: =E24*D24 -> 236
A25: 106-3 | B25: 交通锥 | C25: 个 | D25: 200 | E25: 24.5 | F25: =E25*D25 -> 4900
A26: 106-4 | B26: 水马 | C26: 个 | D26: 50 | E26: 89 | F26: =E26*D26 -> 4450
A27: 106-5 | B27: 诱导标 | C27: 块 | D27: 4 | E27: 299 | F27: =E27*D27 -> 1196
A28: 106-6 | B28: 附设警示灯路栏 | C28: 块 | D28: 4 | E28: 249 | F28: =E28*D28 -> 996
A29: 106-7 | B29: 夜间照明 | C29: 套 | D29: 4 | E29: 149 | F29: =E29*D29 -> 596
A30: 106-8 | B30: 警示频闪灯 | C30: 套 | D30: 4 | E30: 149 | F30: =E30*D30 -> 596
A35: 清单 第 100 章 合计 | C35: =SUM(F8:F32) -> 96026.085 | E35: 元
A36: 工程量清单
A37: 项目名称：2021年四好农村路专项养护--农村公路大中修工程（银湖街道Y639邵虎线） 第 2 页共 5 页
A38: 清单 第 200 章 路基
A39: 细目号 | B39: 细目名称 | C39: 计量单位 | D39: 工程数量 | E39: 单价（元） | F39: 合价（元）
A40: 207 | B40: 坡面排水
A41: -e | B41: C25砼A型边沟 | C41: m | D41: 176 | E41: 223.2 | F41: =E41*D41 -> 39283.2
A42: -f | B42: φ300雨水管 | C42: m | D42: 15 | E42: 159.95 | F42: =E42*D42 -> 2399.25
A43: 209 | B43: 挡土墙
A44: 209-1 | B44: 挡土墙
...

Sheet 汇总表
A1: 工程量清单汇总表
A2: 项目名称：2021年四好农村路专项养护--农村公路大中修工程（银湖街道 Y639邵虎线）
A3: 序号 | B3: 章次 | C3: 科目名称 | D3: 金额（元）
A4: 1 | B4: 100 | C4: 总 则 | D4: =清单!C35 -> 96026.085
A5: 2 | B5: 200 | C5: 路基工程 | D5: =清单!C61 -> 61520.607
A6: 3 | B6: 300 | C6: 路面工程 | D6: =清单!C103 -> 2467474.3
A7: 4 | B7: 400 | C7: 桥梁、涵洞工程 | D7: =清单!C132 -> 2510.0236
A8: 5 | B8: 500 | C8: 隧道工程 | D8: /
A9: 6 | B9: 600 | C9: 安全设施及预埋管线工程 | D9: =清单!C182 -> 182944.22
A10: 7 | B10: 700 | C10: 景观设计与环境保护工程 | D10: /
A11: 8 | B11: 800 | C11: 房屋建筑工程 | D11: /
A12: 9 | B12: 900 | C12: 机电工程 | D12: /
A13: 10 | B13: 第100章至第900章清单合计 | D13: =SUM(D4:D12) -> 2810475.2
A14: 11 | B14: 已包括在清单合计中的专项暂定金额小计 | D14: /
A15: 12 | B15: 清单合计-专项暂定金额[（10）-（11）=（12）] | D15: /
A16: 13 | B16: 计日工合计 | D16: /
A17: 14 | B17: 不可预见费[暂定金额=[（12）× %] | D17: /
A18: 15 | B18: 投标价[（10）+（13）+（14）]=（15） | D18: =D13 -> 2810475.2
