Workbook

Sheet 清单
A1: 4.1 工程量清单表
A2: 工程量清单
A3: 项目名称：2021年四好农村路专项养护--农村公路大中修工程（银湖街道Y639邵虎线） 第 1 页共 5 页
A4: 清单 第 100 章 总则
A5: 细目号 | B5: 细目名称 | C5: 计量单位 | D5: 工程数量 | E5: 单价（元） | F5: 合价（元）
A6: 101 | B6: 通则
A7: 101-1 | B7: 保险费
A8: -a | B8: 按合同条款规定，提供建筑工程一切险 | C8: 总额 | D8: 1 | E8: =(C61+C103+C132+C182)*0.003 -> 8143.3474 | F8: =E8 -> 8143.3474
A9: -b | B9: 按合同条款规定，提供第三方责任险 | C9: 总额 | D9: 1 | E9: =1000000*0.005 -> 5000 | F9: =E9 -> 5000
A10: 102 | B10: 工程管理
A11: 102-1 | B11: 竣工文件 | C11: 总额 | D11: 1 | E11: 5000 | F11: =E11*D11 -> 5000
A12: 102-2 | B12: 施工环保费 | C12: 总额 | D12: 1 | E12: 3000 | F12: =E12*D12 -> 3000
A13: 102-3 | B13: 交通安全管理费 | C13: 总额 | D13: 1 | E13: 3000 | F13: =E13*D13 -> 3000
A14: 102-4 | B14: 安全生产费(不少于建安费的1.5%) | C14: 总额 | D14: 1 | E14: =(C61+C103+C132+C182)*0.015 -> 40716.737 | F14: =E14*D14 -> 40716.737
A15: 103 | B15: 临时工程
A16: 103-1 | B16: 临时道路修建、养护、拆除 | C16: 总额 | D16: 1 | E16: 2000 | F16: =E16*D16 -> 2000
A17: 103-2 | B17: 临时工程用地 | C17: 总额 | D17: 1 | E17: 2000 | F17: =E17*D17 -> 2000
A18: 103-3 | B18: 临时供电设施架设、拆除、维修 | C18: 总额 | D18: 1 | E18: 2000 | F18: =E18*D18 -> 2000
A19: 103-5 | B19: 供水及排污设施 | C19: 总额 | D19: 1 | E19: 2000 | F19: =E19*D19 -> 2000
A20: 104 | B20: 承包人驻地建设
A21: 104-1 | B21: 承包人驻地建设 | C21: 总额 | D21: 1 | E21: 10000 | F21: =E21*D21 -> 10000
A22: 106 | B22: 临时交通安全设施（按周期使用考虑）
A23: 106-1 | B23: 版面D=60cm整体式标志 | C23: 套 | D23: 4 | E23: 49 | F23: =E23*D23 -> 196
A24: 106-2 | B24: 版面△=70cm、□=60×24cm | C24: 套 | D24: 4 | E24: 59 | F24: =E24*D24 -> 236
A25: 106-3 | B25: 交通锥 | C25: 个 | D25: 200 | E25: 24.5 | F25: =E25*D25 -> 4900
A26: 106-4 | B26: 水马 | C26: 个 | D26: 50 | E26: 89 | F26: =E26*D26 -> 4450
A27: 106-5 | B27: 诱导标 | C27: 块 | D27: 4 | E27: 299 | F27: =E27*D27 -> 1196
A28: 106-6 | B28: 附设警示灯路栏 | C28: 块 | D28: 4 | E28: 249 | F28: =E28*D28 -> 996
A29: 106-7 | B29: 夜间照明 | C29: 套 | D29: 4 | E29: 149 | F29: =E29*D29 -> 596
A30: 106-8 | B30: 警示频闪灯 | C30: 套 | D30: 4 | E30: 149 | F30: =E30*D30 -> 596
A35: 清单 第 100 章 合计 | C35: =SUM(F8:F32) -> 96026.085 | E35: 元
A36: 工程量清单
A37: 项目名称：2021年四好农村路专项养护--农村公路大中修工程（银湖街道Y639邵虎线） 第 2 页共 5 页
A38: 清单 第 200 章 路基
A39: 细目号 | B39: 细目名称 | C39: 计量单位 | D39: 工程数量 | E39: 单价（元） | F39: 合价（元）
A40: 207 | B40: 坡面排水
A41: -e | B41: C25砼A型边沟 | C41: m | D41: 176 | E41: 223.2 | F41: =E41*D41 -> 39283.2
A42: -f | B42: φ300雨水管 | C42: m | D42: 15 | E42: 159.95 | F42: =E42*D42 -> 2399.25
A43: 209 | B43: 挡土墙
A44: 209-1 | B44: 挡土墙
A45: -a | B45: 浆砌块石挡土墙 | C45: m3 | D45: 34.85 | E45: 494.682 | F45: =E45*D45 -> 17239.668
A46: -d | B46: 压顶混凝土（C25砼） | C46: m3 | D46: 0.3 | E46: 745.93 | F46: =E46*D46 -> 223.779
A47: 251 | B47: 拆除路上结构物
A48: 251-3 | B48: 拆除浆砌块石结构（外运5km） | C48: m3 | D48: 39 | E48: 60.89 | F48: =E48*D48 -> 2374.71
A61: 清单 第 200 章 合计 | C61: =SUM(F41:F58) -> 61520.607 | E61: 元
A69: 工程量清单
A70: 项目名称：2021年四好农村路专项养护--农村公路大中修工程（银湖街道Y639邵虎线） 第 3 页共 5 页
A71: 清单 第 300 章 路面
A72: 细目号 | B72: 细目名称 | C72: 计量单位 | D72: 工程数量 | E72: 单价（元） | F72: 合价（元）
A73: 351 | B73: 挖除、铣刨、破碎旧路面
A74: 351-1 | B74: 水泥混凝土路面
A75: -d | B75: 挖除水泥混凝土路面、碎石路面20cm | C75: m3 | D75: 43.7 | E75: 35.694 | F75: =E75*D75 -> 1559.8278
A76: 351-2 | B76: 沥青混凝土路面
A77: -a | B77: 5cm沥青砼路面铣刨（含残值回收） | C77: m3 | D77: =2613.8*0.05+98*0.05+3121.2*0.05 -> 291.65 | E77: =5.16/0.05 -> 103.2 | F77: =E77*D77 -> 30098.28
A78: -b | B78: 沥青路面拉毛处理 | C78: m2 | D78: 17735 | E78: 1.6054 | F78: =E78*D78 -> 28471.769
A79: 351-5 | B79: 挖除基层（水泥稳定碎石基层） | C79: m3 | D79: =452+2939.2*0.2 -> 1039.84 | E79: 35.694 | F79: =E79*D79 -> 37116.049
A80: 356 | B80: 修复或加铺调平层
A81: 356-3 | B81: 水泥稳定碎石调平层 | C81: m3 | D81: =5.5+38.2 -> 43.7 | E81: 428.535 | F81: =E81*D81 -> 18726.98
A82: 358 | B82: 修复或加铺基层
A83: 358-1 | B83: 水泥稳定碎（砾）石基层
A84: -a | B84: 厚200mm水泥稳定碎石基层 | C84: m2 | D84: =452/0.2+2939 -> 5199 | E84: 84.9083 | F84: =E84*D84 -> 441438.25
A85: 359 | B85: 修复或加铺透层、粘层和封层
A86: 359-2 | B86: 粘层（乳化沥青） | C86: m2 | D86: =18041+855 -> 18896 | E86: 2.05015 | F86: =E86*D86 -> 38739.634
A87: 359-3 | B87: 封层 | C87: m2 | D87: =2939+218.5 -> 3157.5 | E87: 8.6564 | F87: =E87*D87 -> 27332.583
A88: 360 | B88: 修复或加铺沥青路面
A89: 360-1 | B89: 细粒式沥青混凝土
A90: -a | B90: 厚50mmAC-13C细粒式沥青砼 | C90: m2 | D90: =20980+1073.5 -> 22053.5 | E90: 74.6575 | F90: =E90*D90 -> 1646459.2
A91: -b | B91: AC-13细粒式沥青砼调平层 | C91: m3 | D91: =97.7 -> 97.7 | E91: 1531.15 | F91: =E91*D91 -> 149593.36
A92: 366 | B92: 修复或完善土工合成材料处理
A93: 366-4 | B93: 玄武岩纤维格栅 | C93: m2 | D93: =1957.5+130 -> 2087.5 | E93: 22.9645 | F93: =E93*D93 -> 47938.394
A103: 清单 第 300 章 合计 | C103: =SUM(F75:F100) -> 2467474.3 | E103: 元
A105: 工程量清单
A106: 项目名称：2021年四好农村路专项养护--农村公路大中修工程（银湖街道Y639邵虎线） 第 4 页共 5 页
A107: 清单 第 400 章 桥涵
A108: 细目号 | B108: 细目名称 | C108: 计量单位 | D108: 工程数量 | E108: 单价（元） | F108: 合价（元）
A109: 463 | B109: 涵洞的维修
A110: 463-3 | B110: 进、出水口处的维修
A111: -h | B111: C25砼跌水井 | C111: m3 | D111: 1.72 | E111: 1229.13 | F111: =E111*D111 -> 2114.1036
A112: -i | B112: 管道疏通 | C112: m | D112: 56 | E112: 7.07 | F112: =E112*D112 -> 395.92
A132: 清单 第 400 章 合计 | C132: =SUM(F111:F129) -> 2510.0236 | E132: 元
A143: 工程量清单
A144: 项目名称：2021年四好农村路专项养护--农村公路大中修工程（银湖街道Y639邵虎线） 第 5 页共 5 页
A145: 清单 第 600 章 交通安全设施
A146: 细目号 | B146: 细目名称 | C146: 计量单位 | D146: 工程数量 | E146: 单价（元） | F146: 合价（元）
A147: 605 | B147: 道路交通标线
A148: 605-1 | B148: 热熔型涂料路面标线
A149: -a | B149: 1号标线 | C149: m2 | D149: 1189 | E149: 36.86 | F149: =E149*D149 -> 43826.54
A150: 652 | B150: 波形护栏维修
A151: 652-4 | B151: 重建或新增
A152: -a | B152: Gr-C-4C（基础尺寸0.5*0.5m通长，不含基础挖方） | C152: m | D152: 144 | E152: 378.97 | F152: =E152*D152 -> 54571.68
A153: -b | B153: Gr-C-2C（基础尺寸0.5*0.5m通长，不含基础挖方） | C153: m | D153: 12 | E153: 423.38 | F153: =E153*D153 -> 5080.56
A154: -c | B154: 栏板更换 | C154: m | D154: 54 | E154: 132.95 | F154: =E154*D154 -> 7179.3
A155: -d | B155: 原护栏利用清洗喷漆 | C155: m | D155: 840 | E155: 16.12 | F155: =E155*D155 -> 13540.8
A156: -e | B156: 波形护栏端头贴反光膜 | C156: m2 | D156: 14 | E156: 303.11 | F156: =E156*D156 -> 4243.54
A157: 657 | B157: 防撞墩维修
A158: 657-1 | B158: 拆除 | C158: 个 | D158: 48 | E158: 22.39 | F158: =E158*D158 -> 1074.72
A159: 658 | B159: 单柱式交通标志维修
A160: 658-3 | B160: 重建或新增
A161: -a | B161: 更换（版面更换正八边形600mm） | C161: 个 | D161: 1 | E161: 242.51 | F161: =E161*D161 -> 242.51
A162: -b | B162: 更换（版面更换三角形700） | C162: 个 | D162: 1 | E162: 210.07 | F162: =E162*D162 -> 210.07
...

Sheet 汇总表
A1: 工程量清单汇总表
A2: 项目名称：2021年四好农村路专项养护--农村公路大中修工程（银湖街道 Y639邵虎线）
A3: 序号 | B3: 章次 | C3: 科目名称 | D3: 金额（元）
A4: 1 | B4: 100 | C4: 总 则 | D4: =清单!C35 -> 96026.085
A5: 2 | B5: 200 | C5: 路基工程 | D5: =清单!C61 -> 61520.607
A6: 3 | B6: 300 | C6: 路面工程 | D6: =清单!C103 -> 2467474.3
A7: 4 | B7: 400 | C7: 桥梁、涵洞工程 | D7: =清单!C132 -> 2510.0236
A8: 5 | B8: 500 | C8: 隧道工程 | D8: /
A9: 6 | B9: 600 | C9: 安全设施及预埋管线工程 | D9: =清单!C182 -> 182944.22
A10: 7 | B10: 700 | C10: 景观设计与环境保护工程 | D10: /
A11: 8 | B11: 800 | C11: 房屋建筑工程 | D11: /
A12: 9 | B12: 900 | C12: 机电工程 | D12: /
A13: 10 | B13: 第100章至第900章清单合计 | D13: =SUM(D4:D12) -> 2810475.2
A14: 11 | B14: 已包括在清单合计中的专项暂定金额小计 | D14: /
A15: 12 | B15: 清单合计-专项暂定金额[（10）-（11）=（12）] | D15: /
A16: 13 | B16: 计日工合计 | D16: /
A17: 14 | B17: 不可预见费[暂定金额=[（12）× %] | D17: /
A18: 15 | B18: 投标价[（10）+（13）+（14）]=（15） | D18: =D13 -> 2810475.2
